BEGIN:VCALENDAR
VERSION:2.0
PRODID:-//Santa Clarita Valley Chamber of Commerce//Silkstart Technology 
 Inc.//
BEGIN:VTIMEZONE
TZID:America/Los_Angeles
BEGIN:DAYLIGHT
DTSTART;VALUE=DATE-TIME:20260308T020000
TZNAME:PDT
TZOFFSETFROM:-0800
TZOFFSETTO:-0700
END:DAYLIGHT
BEGIN:STANDARD
DTSTART;VALUE=DATE-TIME:20261101T020000
TZNAME:PST
TZOFFSETFROM:-0700
TZOFFSETTO:-0800
END:STANDARD
END:VTIMEZONE
BEGIN:VEVENT
SUMMARY:Grand Opening - San Fernando Coffee Co
DTSTART;TZID=America/Los_Angeles;VALUE=DATE-TIME:20260501T160000
DTEND;TZID=America/Los_Angeles;VALUE=DATE-TIME:20260501T163000
DTSTAMP;VALUE=DATE-TIME:20260416T171608
UID:69e1195857912605ec82847a
DESCRIPTION: Join us for the Grand Opening of San Fernando Coffee 
 Co.&rsquo\;s new location! We&rsquo\;re excited to welcome San Fernando 
 Coffee Co. to the Santa Clarita Valley business community. Celebrate their
  new location with an inviting atmosphere\, great conversation\, delicious
  coffee\, live music\, and a photo booth as we mark this exciting 
 milestone together. San Fernando Coffee Co. is known for its quality 
 coffee\, welcoming environment\, and passion for bringing people 
 together\, making it the perfect spot to connect\, relax\, or start your 
 day. This Grand Opening is open to everyone. Everyone is invited to stop 
 by\, meet the team\, and join in the celebration. 
LOCATION:22722 Lyons Ave. Unit 1. Newhall\, CA 91321
PRIORITY:5
URL:https://www.scvchamber.com:443/events/grand-opening-san-fernando-
 coffee-co
END:VEVENT
END:VCALENDAR
